BEGIN:VCALENDAR
VERSION:2.0
PRODID:-//MilitariaToday - ECPv6.15.20//NONSGML v1.0//EN
CALSCALE:GREGORIAN
METHOD:PUBLISH
X-ORIGINAL-URL:https://militariatoday.com
X-WR-CALDESC:Events for MilitariaToday
REFRESH-INTERVAL;VALUE=DURATION:PT1H
X-Robots-Tag:noindex
X-PUBLISHED-TTL:PT1H
BEGIN:VTIMEZONE
TZID:America/New_York
BEGIN:DAYLIGHT
TZOFFSETFROM:-0500
TZOFFSETTO:-0400
TZNAME:EDT
DTSTART:20220313T070000
END:DAYLIGHT
BEGIN:STANDARD
TZOFFSETFROM:-0400
TZOFFSETTO:-0500
TZNAME:EST
DTSTART:20221106T060000
END:STANDARD
BEGIN:DAYLIGHT
TZOFFSETFROM:-0500
TZOFFSETTO:-0400
TZNAME:EDT
DTSTART:20230312T070000
END:DAYLIGHT
BEGIN:STANDARD
TZOFFSETFROM:-0400
TZOFFSETTO:-0500
TZNAME:EST
DTSTART:20231105T060000
END:STANDARD
BEGIN:DAYLIGHT
TZOFFSETFROM:-0500
TZOFFSETTO:-0400
TZNAME:EDT
DTSTART:20240310T070000
END:DAYLIGHT
BEGIN:STANDARD
TZOFFSETFROM:-0400
TZOFFSETTO:-0500
TZNAME:EST
DTSTART:20241103T060000
END:STANDARD
END:VTIMEZONE
BEGIN:VEVENT
DTSTART;TZID=America/New_York:20231202T090000
DTEND;TZID=America/New_York:20231203T140000
DTSTAMP:20260422T135410
CREATED:20220815T193610Z
LAST-MODIFIED:20221014T122621Z
UID:10000184-1701507600-1701612000@militariatoday.com
SUMMARY:Allentown Gun and Militaria Show
DESCRIPTION:The Allentown Gun and Militaria Show is a Pennsylvania collectors fair in the USA.\nAs with any military collectors show you will find a nice range of periods and items available for sale and trade. The show organisers are dedicated to preserving these historic items. So go along to meet like-minded people and enjoy a day out. \nPlease note – All local\, state and federal laws must be followed at all times. \nFor more information\nWebsite – CLICK HERE \nFacebook – CLICK HERE \nOr telephone – (610) 438-9006 \nPrice & opening times\n$8 Children under 15 are free. \nPublic Entry  \nSat – 9am – 5pm \nSun -9am – 2pm \nAddress\n\n\n\nAllentown Fairgrounds\, 302 N 17th St\, Allentown\, PA 18104\, United States \n\n\n\n\nAt Militaria Today we have compiled the world’s most extensive militaria fairs and events list. We strive to be as accurate as we can. However\, all events are subject to change\, so we recommend checking with the event organisers before travelling\, in case of any last-minute changes. We cover a worldwide market\, so it can be hard to keep up with last-minute amendments.\nKnow of a show that’s not on our list?\nOur fairs list is completely free for all users and show organisers! So if you know of a militaria fair\, show\, car boot sale\, reenactment or other event that is not on our list\, just get in touch and we will happily add it to our list and promote the event on our social media. Please send any submissions via our contact us page. We want to build the most complete worldwide list available.
URL:https://militariatoday.com/event/allentown-gun-and-militaria-show/2023-12-02/
LOCATION:Allentown Fairgrounds\, 302 N 17th St\, Allentown\, PA\, 18104\, United States
CATEGORIES:Militaria Fair
ATTACH;FMTTYPE=image/png:https://militariatoday.com/wp-content/uploads/2022/08/image-26.png
GEO:40.6013577;-75.4962542
X-APPLE-STRUCTURED-LOCATION;VALUE=URI;X-ADDRESS=Allentown Fairgrounds 302 N 17th St Allentown PA 18104 United States;X-APPLE-RADIUS=500;X-TITLE=302 N 17th St:geo:-75.4962542,40.6013577
END:VEVENT
BEGIN:VEVENT
DTSTART;TZID=America/New_York:20231014T090000
DTEND;TZID=America/New_York:20231015T140000
DTSTAMP:20260422T135410
CREATED:20220815T193610Z
LAST-MODIFIED:20221014T122621Z
UID:10000183-1697274000-1697378400@militariatoday.com
SUMMARY:Allentown Gun and Militaria Show
DESCRIPTION:The Allentown Gun and Militaria Show is a Pennsylvania collectors fair in the USA.\nAs with any military collectors show you will find a nice range of periods and items available for sale and trade. The show organisers are dedicated to preserving these historic items. So go along to meet like-minded people and enjoy a day out. \nPlease note – All local\, state and federal laws must be followed at all times. \nFor more information\nWebsite – CLICK HERE \nFacebook – CLICK HERE \nOr telephone – (610) 438-9006 \nPrice & opening times\n$8 Children under 15 are free. \nPublic Entry  \nSat – 9am – 5pm \nSun -9am – 2pm \nAddress\n\n\n\nAllentown Fairgrounds\, 302 N 17th St\, Allentown\, PA 18104\, United States \n\n\n\n\nAt Militaria Today we have compiled the world’s most extensive militaria fairs and events list. We strive to be as accurate as we can. However\, all events are subject to change\, so we recommend checking with the event organisers before travelling\, in case of any last-minute changes. We cover a worldwide market\, so it can be hard to keep up with last-minute amendments.\nKnow of a show that’s not on our list?\nOur fairs list is completely free for all users and show organisers! So if you know of a militaria fair\, show\, car boot sale\, reenactment or other event that is not on our list\, just get in touch and we will happily add it to our list and promote the event on our social media. Please send any submissions via our contact us page. We want to build the most complete worldwide list available.
URL:https://militariatoday.com/event/allentown-gun-and-militaria-show/2023-10-14/
LOCATION:Allentown Fairgrounds\, 302 N 17th St\, Allentown\, PA\, 18104\, United States
CATEGORIES:Militaria Fair
ATTACH;FMTTYPE=image/png:https://militariatoday.com/wp-content/uploads/2022/08/image-26.png
GEO:40.6013577;-75.4962542
X-APPLE-STRUCTURED-LOCATION;VALUE=URI;X-ADDRESS=Allentown Fairgrounds 302 N 17th St Allentown PA 18104 United States;X-APPLE-RADIUS=500;X-TITLE=302 N 17th St:geo:-75.4962542,40.6013577
END:VEVENT
BEGIN:VEVENT
DTSTART;TZID=America/New_York:20230708T090000
DTEND;TZID=America/New_York:20230709T140000
DTSTAMP:20260422T135410
CREATED:20220815T193610Z
LAST-MODIFIED:20221014T122621Z
UID:10000182-1688806800-1688911200@militariatoday.com
SUMMARY:Allentown Gun and Militaria Show
DESCRIPTION:The Allentown Gun and Militaria Show is a Pennsylvania collectors fair in the USA.\nAs with any military collectors show you will find a nice range of periods and items available for sale and trade. The show organisers are dedicated to preserving these historic items. So go along to meet like-minded people and enjoy a day out. \nPlease note – All local\, state and federal laws must be followed at all times. \nFor more information\nWebsite – CLICK HERE \nFacebook – CLICK HERE \nOr telephone – (610) 438-9006 \nPrice & opening times\n$8 Children under 15 are free. \nPublic Entry  \nSat – 9am – 5pm \nSun -9am – 2pm \nAddress\n\n\n\nAllentown Fairgrounds\, 302 N 17th St\, Allentown\, PA 18104\, United States \n\n\n\n\nAt Militaria Today we have compiled the world’s most extensive militaria fairs and events list. We strive to be as accurate as we can. However\, all events are subject to change\, so we recommend checking with the event organisers before travelling\, in case of any last-minute changes. We cover a worldwide market\, so it can be hard to keep up with last-minute amendments.\nKnow of a show that’s not on our list?\nOur fairs list is completely free for all users and show organisers! So if you know of a militaria fair\, show\, car boot sale\, reenactment or other event that is not on our list\, just get in touch and we will happily add it to our list and promote the event on our social media. Please send any submissions via our contact us page. We want to build the most complete worldwide list available.
URL:https://militariatoday.com/event/allentown-gun-and-militaria-show/2023-07-08/
LOCATION:Allentown Fairgrounds\, 302 N 17th St\, Allentown\, PA\, 18104\, United States
CATEGORIES:Militaria Fair
ATTACH;FMTTYPE=image/png:https://militariatoday.com/wp-content/uploads/2022/08/image-26.png
GEO:40.6013577;-75.4962542
X-APPLE-STRUCTURED-LOCATION;VALUE=URI;X-ADDRESS=Allentown Fairgrounds 302 N 17th St Allentown PA 18104 United States;X-APPLE-RADIUS=500;X-TITLE=302 N 17th St:geo:-75.4962542,40.6013577
END:VEVENT
BEGIN:VEVENT
DTSTART;TZID=America/New_York:20230513T090000
DTEND;TZID=America/New_York:20230514T140000
DTSTAMP:20260422T135410
CREATED:20220815T193610Z
LAST-MODIFIED:20221014T122621Z
UID:10000181-1683968400-1684072800@militariatoday.com
SUMMARY:Allentown Gun and Militaria Show
DESCRIPTION:The Allentown Gun and Militaria Show is a Pennsylvania collectors fair in the USA.\nAs with any military collectors show you will find a nice range of periods and items available for sale and trade. The show organisers are dedicated to preserving these historic items. So go along to meet like-minded people and enjoy a day out. \nPlease note – All local\, state and federal laws must be followed at all times. \nFor more information\nWebsite – CLICK HERE \nFacebook – CLICK HERE \nOr telephone – (610) 438-9006 \nPrice & opening times\n$8 Children under 15 are free. \nPublic Entry  \nSat – 9am – 5pm \nSun -9am – 2pm \nAddress\n\n\n\nAllentown Fairgrounds\, 302 N 17th St\, Allentown\, PA 18104\, United States \n\n\n\n\nAt Militaria Today we have compiled the world’s most extensive militaria fairs and events list. We strive to be as accurate as we can. However\, all events are subject to change\, so we recommend checking with the event organisers before travelling\, in case of any last-minute changes. We cover a worldwide market\, so it can be hard to keep up with last-minute amendments.\nKnow of a show that’s not on our list?\nOur fairs list is completely free for all users and show organisers! So if you know of a militaria fair\, show\, car boot sale\, reenactment or other event that is not on our list\, just get in touch and we will happily add it to our list and promote the event on our social media. Please send any submissions via our contact us page. We want to build the most complete worldwide list available.
URL:https://militariatoday.com/event/allentown-gun-and-militaria-show/2023-05-13/
LOCATION:Allentown Fairgrounds\, 302 N 17th St\, Allentown\, PA\, 18104\, United States
CATEGORIES:Militaria Fair
ATTACH;FMTTYPE=image/png:https://militariatoday.com/wp-content/uploads/2022/08/image-26.png
GEO:40.6013577;-75.4962542
X-APPLE-STRUCTURED-LOCATION;VALUE=URI;X-ADDRESS=Allentown Fairgrounds 302 N 17th St Allentown PA 18104 United States;X-APPLE-RADIUS=500;X-TITLE=302 N 17th St:geo:-75.4962542,40.6013577
END:VEVENT
END:VCALENDAR