BEGIN:VCALENDAR
VERSION:2.0
PRODID:-//MilitariaToday - ECPv6.15.20//NONSGML v1.0//EN
CALSCALE:GREGORIAN
METHOD:PUBLISH
X-ORIGINAL-URL:https://militariatoday.com
X-WR-CALDESC:Events for MilitariaToday
REFRESH-INTERVAL;VALUE=DURATION:PT1H
X-Robots-Tag:noindex
X-PUBLISHED-TTL:PT1H
BEGIN:VTIMEZONE
TZID:America/Chicago
BEGIN:DAYLIGHT
TZOFFSETFROM:-0600
TZOFFSETTO:-0500
TZNAME:CDT
DTSTART:20220313T080000
END:DAYLIGHT
BEGIN:STANDARD
TZOFFSETFROM:-0500
TZOFFSETTO:-0600
TZNAME:CST
DTSTART:20221106T070000
END:STANDARD
BEGIN:DAYLIGHT
TZOFFSETFROM:-0600
TZOFFSETTO:-0500
TZNAME:CDT
DTSTART:20230312T080000
END:DAYLIGHT
BEGIN:STANDARD
TZOFFSETFROM:-0500
TZOFFSETTO:-0600
TZNAME:CST
DTSTART:20231105T070000
END:STANDARD
BEGIN:DAYLIGHT
TZOFFSETFROM:-0600
TZOFFSETTO:-0500
TZNAME:CDT
DTSTART:20240310T080000
END:DAYLIGHT
BEGIN:STANDARD
TZOFFSETFROM:-0500
TZOFFSETTO:-0600
TZNAME:CST
DTSTART:20241103T070000
END:STANDARD
END:VTIMEZONE
BEGIN:VEVENT
DTSTART;TZID=America/Chicago:20231124T120000
DTEND;TZID=America/Chicago:20231124T150000
DTSTAMP:20260420T130825
CREATED:20220816T134912Z
LAST-MODIFIED:20230125T112325Z
UID:10000645-1700827200-1700838000@militariatoday.com
SUMMARY:Militaria Relics Show Nashville
DESCRIPTION:The Militaria Relics Show Nashville is a fantastic event held twice a year in Tennessee. Organised by the TMCA (Tennessee Military Collectors Association) this fantastic show plays host to 325 tables and with 1200 members\, it’s the largest military show in the Southern US. On site you will find a great mixture of items from all periods\, all nations covering all sorts of subjects from medals\, uniforms\, flags\, weapons\, swords\, books and so much more. \nFor more information\nWebsite – CLICK HERE \nFacebook – CLICK HERE \nTMCA@comcast.net – (615) 661-9379 \nEntry price & time\n$5 under 15s are free. Free entry for members. \nFriday – Special Members Hours 9AM – 12 Noon / Public Admitted Noon – 5PM\nSaturday – Members/Public 8AM – 3PM \nAddress\n\n\n\nFranklin Marriott Cool Springs\, 700 Cool Springs Blvd.\, Franklin\, TN 37067\, United States \n\n\n\n\nAt Militaria Today we have compiled the world’s most extensive militaria fairs and events list. We strive to be as accurate as we can. However\, all events are subject to change\, so we recommend checking with the event organisers before travelling\, in case of any last-minute changes. We cover a worldwide market\, so it can be hard to keep up with last-minute amendments.\nKnow of a show that’s not on our list?\nOur fairs list is completely free for all users and show organisers! So if you know of a militaria fair\, show\, car boot sale\, reenactment or other event that is not on our list\, just get in touch and we will happily add it to our list and promote the event on our social media. Please send any submissions via our contact us page. We want to build the most complete worldwide list available.
URL:https://militariatoday.com/event/militaria-relics-show-nashville/2023-11-24/
LOCATION:Franklin Marriott Cool Springs\, 700 Cool Springs Blvd\, Franklin\, TN\, 37067\, United States
CATEGORIES:Militaria Fair
ATTACH;FMTTYPE=image/png:https://militariatoday.com/wp-content/uploads/2022/08/image-29.png
GEO:35.9471468;-86.8064611
X-APPLE-STRUCTURED-LOCATION;VALUE=URI;X-ADDRESS=Franklin Marriott Cool Springs 700 Cool Springs Blvd Franklin TN 37067 United States;X-APPLE-RADIUS=500;X-TITLE=700 Cool Springs Blvd:geo:-86.8064611,35.9471468
END:VEVENT
END:VCALENDAR