BEGIN:VCALENDAR
VERSION:2.0
PRODID:-//MilitariaToday - ECPv6.15.20//NONSGML v1.0//EN
CALSCALE:GREGORIAN
METHOD:PUBLISH
X-ORIGINAL-URL:https://militariatoday.com
X-WR-CALDESC:Events for MilitariaToday
REFRESH-INTERVAL;VALUE=DURATION:PT1H
X-Robots-Tag:noindex
X-PUBLISHED-TTL:PT1H
BEGIN:VTIMEZONE
TZID:Europe/London
BEGIN:DAYLIGHT
TZOFFSETFROM:+0000
TZOFFSETTO:+0100
TZNAME:BST
DTSTART:20220327T010000
END:DAYLIGHT
BEGIN:STANDARD
TZOFFSETFROM:+0100
TZOFFSETTO:+0000
TZNAME:GMT
DTSTART:20221030T010000
END:STANDARD
BEGIN:DAYLIGHT
TZOFFSETFROM:+0000
TZOFFSETTO:+0100
TZNAME:BST
DTSTART:20230326T010000
END:DAYLIGHT
BEGIN:STANDARD
TZOFFSETFROM:+0100
TZOFFSETTO:+0000
TZNAME:GMT
DTSTART:20231029T010000
END:STANDARD
BEGIN:DAYLIGHT
TZOFFSETFROM:+0000
TZOFFSETTO:+0100
TZNAME:BST
DTSTART:20240331T010000
END:DAYLIGHT
BEGIN:STANDARD
TZOFFSETFROM:+0100
TZOFFSETTO:+0000
TZNAME:GMT
DTSTART:20241027T010000
END:STANDARD
END:VTIMEZONE
BEGIN:VEVENT
DTSTART;TZID=Europe/London:20231203T090000
DTEND;TZID=Europe/London:20231203T140000
DTSTAMP:20260420T150530
CREATED:20220801T184338Z
LAST-MODIFIED:20230515T103114Z
UID:10000670-1701594000-1701612000@militariatoday.com
SUMMARY:Hertfordshire Militaria & Medal Fair
DESCRIPTION:The Hertfordshire Militaria & Medal Fair was established in 1993 and was previously known for being the Watford Militaria & Medal Fair.\nOrganised by Sovereign Military Fairs the fair recently moved to a new venue. The fair is always moving with the times. Now much more accessible from the M25 motorway (Junction 17) the new venue makes life much easier for visitors. \nLight refreshments are available on site and there’s free parking. Dealers table prices start from £35 for the day. \nAdmission – \n9am – 10am – £4 \n10am-2pm – £2.50 \nAccompanying children under 12 free \nFor more information:\nWebsite \nSovereignFairs@aol.com \nTelephone 01438 811657 or 01923 448903 \nVenue address – \nHertfordshire Militaria & Medal Fair\nThe Reach Free School\nUxbridge Road (A412)\, Mill End\, Rickmansworth\,\nHertfordshire\,  WD3  8AB\n\nAt Militaria Today we have compiled the world’s most extensive militaria fairs and events list. We strive to be as accurate as we can. However\, all events are subject to change\, so we recommend checking with the event organisers before travelling\, in case of any last-minute changes. We cover a worldwide market\, so it can be hard to keep up with last-minute amendments.\nKnow of a show that’s not on our list?\nOur fairs list is completely free for all users and show organisers! So if you know of a militaria fair\, show\, military yard/boot sale\, reenactment or other event that is not on our list\, just get in touch and we will happily add it to our list and promote the event on our social media. Please send any submissions via our contact us page. We want to build the most complete worldwide list available.
URL:https://militariatoday.com/event/hertfordshire-militaria-medal-fair/2023-12-03/
LOCATION:The Reach Free School\, Uxbridge Road (A412)\,\, Rickmansworth\, Hertfordshire\, WD3 8AB\, United Kingdom
CATEGORIES:Militaria Fair
ATTACH;FMTTYPE=image/png:https://militariatoday.com/wp-content/uploads/2022/08/Screenshot-2022-08-04-at-21.31.19.png
GEO:51.6346699;-0.4883972
X-APPLE-STRUCTURED-LOCATION;VALUE=URI;X-ADDRESS=The Reach Free School Uxbridge Road (A412) Rickmansworth Hertfordshire WD3 8AB United Kingdom;X-APPLE-RADIUS=500;X-TITLE=Uxbridge Road (A412)\,:geo:-0.4883972,51.6346699
END:VEVENT
BEGIN:VEVENT
DTSTART;TZID=Europe/London:20231015T090000
DTEND;TZID=Europe/London:20231015T140000
DTSTAMP:20260420T150530
CREATED:20220801T184338Z
LAST-MODIFIED:20230515T103114Z
UID:10000669-1697360400-1697378400@militariatoday.com
SUMMARY:Hertfordshire Militaria & Medal Fair
DESCRIPTION:The Hertfordshire Militaria & Medal Fair was established in 1993 and was previously known for being the Watford Militaria & Medal Fair.\nOrganised by Sovereign Military Fairs the fair recently moved to a new venue. The fair is always moving with the times. Now much more accessible from the M25 motorway (Junction 17) the new venue makes life much easier for visitors. \nLight refreshments are available on site and there’s free parking. Dealers table prices start from £35 for the day. \nAdmission – \n9am – 10am – £4 \n10am-2pm – £2.50 \nAccompanying children under 12 free \nFor more information:\nWebsite \nSovereignFairs@aol.com \nTelephone 01438 811657 or 01923 448903 \nVenue address – \nHertfordshire Militaria & Medal Fair\nThe Reach Free School\nUxbridge Road (A412)\, Mill End\, Rickmansworth\,\nHertfordshire\,  WD3  8AB\n\nAt Militaria Today we have compiled the world’s most extensive militaria fairs and events list. We strive to be as accurate as we can. However\, all events are subject to change\, so we recommend checking with the event organisers before travelling\, in case of any last-minute changes. We cover a worldwide market\, so it can be hard to keep up with last-minute amendments.\nKnow of a show that’s not on our list?\nOur fairs list is completely free for all users and show organisers! So if you know of a militaria fair\, show\, military yard/boot sale\, reenactment or other event that is not on our list\, just get in touch and we will happily add it to our list and promote the event on our social media. Please send any submissions via our contact us page. We want to build the most complete worldwide list available.
URL:https://militariatoday.com/event/hertfordshire-militaria-medal-fair/2023-10-15/
LOCATION:The Reach Free School\, Uxbridge Road (A412)\,\, Rickmansworth\, Hertfordshire\, WD3 8AB\, United Kingdom
CATEGORIES:Militaria Fair
ATTACH;FMTTYPE=image/png:https://militariatoday.com/wp-content/uploads/2022/08/Screenshot-2022-08-04-at-21.31.19.png
GEO:51.6346699;-0.4883972
X-APPLE-STRUCTURED-LOCATION;VALUE=URI;X-ADDRESS=The Reach Free School Uxbridge Road (A412) Rickmansworth Hertfordshire WD3 8AB United Kingdom;X-APPLE-RADIUS=500;X-TITLE=Uxbridge Road (A412)\,:geo:-0.4883972,51.6346699
END:VEVENT
BEGIN:VEVENT
DTSTART;TZID=Europe/London:20230903T090000
DTEND;TZID=Europe/London:20230903T140000
DTSTAMP:20260420T150530
CREATED:20220801T184338Z
LAST-MODIFIED:20230515T103114Z
UID:10000668-1693731600-1693749600@militariatoday.com
SUMMARY:Hertfordshire Militaria & Medal Fair
DESCRIPTION:The Hertfordshire Militaria & Medal Fair was established in 1993 and was previously known for being the Watford Militaria & Medal Fair.\nOrganised by Sovereign Military Fairs the fair recently moved to a new venue. The fair is always moving with the times. Now much more accessible from the M25 motorway (Junction 17) the new venue makes life much easier for visitors. \nLight refreshments are available on site and there’s free parking. Dealers table prices start from £35 for the day. \nAdmission – \n9am – 10am – £4 \n10am-2pm – £2.50 \nAccompanying children under 12 free \nFor more information:\nWebsite \nSovereignFairs@aol.com \nTelephone 01438 811657 or 01923 448903 \nVenue address – \nHertfordshire Militaria & Medal Fair\nThe Reach Free School\nUxbridge Road (A412)\, Mill End\, Rickmansworth\,\nHertfordshire\,  WD3  8AB\n\nAt Militaria Today we have compiled the world’s most extensive militaria fairs and events list. We strive to be as accurate as we can. However\, all events are subject to change\, so we recommend checking with the event organisers before travelling\, in case of any last-minute changes. We cover a worldwide market\, so it can be hard to keep up with last-minute amendments.\nKnow of a show that’s not on our list?\nOur fairs list is completely free for all users and show organisers! So if you know of a militaria fair\, show\, military yard/boot sale\, reenactment or other event that is not on our list\, just get in touch and we will happily add it to our list and promote the event on our social media. Please send any submissions via our contact us page. We want to build the most complete worldwide list available.
URL:https://militariatoday.com/event/hertfordshire-militaria-medal-fair/2023-09-03/
LOCATION:The Reach Free School\, Uxbridge Road (A412)\,\, Rickmansworth\, Hertfordshire\, WD3 8AB\, United Kingdom
CATEGORIES:Militaria Fair
ATTACH;FMTTYPE=image/png:https://militariatoday.com/wp-content/uploads/2022/08/Screenshot-2022-08-04-at-21.31.19.png
GEO:51.6346699;-0.4883972
X-APPLE-STRUCTURED-LOCATION;VALUE=URI;X-ADDRESS=The Reach Free School Uxbridge Road (A412) Rickmansworth Hertfordshire WD3 8AB United Kingdom;X-APPLE-RADIUS=500;X-TITLE=Uxbridge Road (A412)\,:geo:-0.4883972,51.6346699
END:VEVENT
BEGIN:VEVENT
DTSTART;TZID=Europe/London:20230604T090000
DTEND;TZID=Europe/London:20230604T140000
DTSTAMP:20260420T150530
CREATED:20220801T184338Z
LAST-MODIFIED:20230515T103114Z
UID:10000535-1685869200-1685887200@militariatoday.com
SUMMARY:Hertfordshire Militaria & Medal Fair
DESCRIPTION:The Hertfordshire Militaria & Medal Fair was established in 1993 and was previously known for being the Watford Militaria & Medal Fair.\nOrganised by Sovereign Military Fairs the fair recently moved to a new venue. The fair is always moving with the times. Now much more accessible from the M25 motorway (Junction 17) the new venue makes life much easier for visitors. \nLight refreshments are available on site and there’s free parking. Dealers table prices start from £35 for the day. \nAdmission – \n9am – 10am – £4 \n10am-2pm – £2.50 \nAccompanying children under 12 free \nFor more information:\nWebsite \nSovereignFairs@aol.com \nTelephone 01438 811657 or 01923 448903 \nVenue address – \nHertfordshire Militaria & Medal Fair\nThe Reach Free School\nUxbridge Road (A412)\, Mill End\, Rickmansworth\,\nHertfordshire\,  WD3  8AB\n\nAt Militaria Today we have compiled the world’s most extensive militaria fairs and events list. We strive to be as accurate as we can. However\, all events are subject to change\, so we recommend checking with the event organisers before travelling\, in case of any last-minute changes. We cover a worldwide market\, so it can be hard to keep up with last-minute amendments.\nKnow of a show that’s not on our list?\nOur fairs list is completely free for all users and show organisers! So if you know of a militaria fair\, show\, military yard/boot sale\, reenactment or other event that is not on our list\, just get in touch and we will happily add it to our list and promote the event on our social media. Please send any submissions via our contact us page. We want to build the most complete worldwide list available.
URL:https://militariatoday.com/event/hertfordshire-militaria-medal-fair/2023-06-04/
LOCATION:The Reach Free School\, Uxbridge Road (A412)\,\, Rickmansworth\, Hertfordshire\, WD3 8AB\, United Kingdom
CATEGORIES:Militaria Fair
ATTACH;FMTTYPE=image/png:https://militariatoday.com/wp-content/uploads/2022/08/Screenshot-2022-08-04-at-21.31.19.png
GEO:51.6346699;-0.4883972
X-APPLE-STRUCTURED-LOCATION;VALUE=URI;X-ADDRESS=The Reach Free School Uxbridge Road (A412) Rickmansworth Hertfordshire WD3 8AB United Kingdom;X-APPLE-RADIUS=500;X-TITLE=Uxbridge Road (A412)\,:geo:-0.4883972,51.6346699
END:VEVENT
BEGIN:VEVENT
DTSTART;TZID=Europe/London:20230430T090000
DTEND;TZID=Europe/London:20230430T140000
DTSTAMP:20260420T150530
CREATED:20220801T184338Z
LAST-MODIFIED:20230515T103114Z
UID:10000534-1682845200-1682863200@militariatoday.com
SUMMARY:Hertfordshire Militaria & Medal Fair
DESCRIPTION:The Hertfordshire Militaria & Medal Fair was established in 1993 and was previously known for being the Watford Militaria & Medal Fair.\nOrganised by Sovereign Military Fairs the fair recently moved to a new venue. The fair is always moving with the times. Now much more accessible from the M25 motorway (Junction 17) the new venue makes life much easier for visitors. \nLight refreshments are available on site and there’s free parking. Dealers table prices start from £35 for the day. \nAdmission – \n9am – 10am – £4 \n10am-2pm – £2.50 \nAccompanying children under 12 free \nFor more information:\nWebsite \nSovereignFairs@aol.com \nTelephone 01438 811657 or 01923 448903 \nVenue address – \nHertfordshire Militaria & Medal Fair\nThe Reach Free School\nUxbridge Road (A412)\, Mill End\, Rickmansworth\,\nHertfordshire\,  WD3  8AB\n\nAt Militaria Today we have compiled the world’s most extensive militaria fairs and events list. We strive to be as accurate as we can. However\, all events are subject to change\, so we recommend checking with the event organisers before travelling\, in case of any last-minute changes. We cover a worldwide market\, so it can be hard to keep up with last-minute amendments.\nKnow of a show that’s not on our list?\nOur fairs list is completely free for all users and show organisers! So if you know of a militaria fair\, show\, military yard/boot sale\, reenactment or other event that is not on our list\, just get in touch and we will happily add it to our list and promote the event on our social media. Please send any submissions via our contact us page. We want to build the most complete worldwide list available.
URL:https://militariatoday.com/event/hertfordshire-militaria-medal-fair/2023-04-30/
LOCATION:The Reach Free School\, Uxbridge Road (A412)\,\, Rickmansworth\, Hertfordshire\, WD3 8AB\, United Kingdom
CATEGORIES:Militaria Fair
ATTACH;FMTTYPE=image/png:https://militariatoday.com/wp-content/uploads/2022/08/Screenshot-2022-08-04-at-21.31.19.png
GEO:51.6346699;-0.4883972
X-APPLE-STRUCTURED-LOCATION;VALUE=URI;X-ADDRESS=The Reach Free School Uxbridge Road (A412) Rickmansworth Hertfordshire WD3 8AB United Kingdom;X-APPLE-RADIUS=500;X-TITLE=Uxbridge Road (A412)\,:geo:-0.4883972,51.6346699
END:VEVENT
END:VCALENDAR